BEGIN:VCALENDAR
VERSION:2.0
PRODID:Imitheme.com 
BEGIN:VEVENT
UID:20260421T115922226338794
DTSTAMP;TZID=UTC:20260421T115922
DTSTART;TZID=UTC:20261116T115900
DTEND;TZID=UTC:20261116T115900
SUMMARY:Seniorenclub
LOCATION:
DESCRIPTION:Seniorenclub &nbsp\;
END:VEVENT
END:VCALENDAR
