BEGIN:VCALENDAR
VERSION:2.0
PRODID:Imitheme.com 
BEGIN:VEVENT
UID:20260422T122917774883423
DTSTAMP;TZID=UTC:20260422T122917
DTSTART;TZID=UTC:20261116T122900
DTEND;TZID=UTC:20261116T122900
SUMMARY:Klausur PB und Diakonium / Wegen COVID-19 ABGESAGT / verschoben.
LOCATION:
DESCRIPTION:Klausur PB und Diakonium Wegen COVID-19 ABGESAGT / verschoben. &nbsp\;
END:VEVENT
END:VCALENDAR
