BEGIN:VCALENDAR
VERSION:2.0
PRODID:Imitheme.com 
BEGIN:VEVENT
UID:20260421T115902278576331
DTSTAMP;TZID=UTC:20260421T115902
DTSTART;TZID=UTC:20261116T115900
DTEND;TZID=UTC:20261116T115900
SUMMARY:Frauen-Bibelgespräche
LOCATION:
DESCRIPTION:Dienstags\, um 16 Uhr im Gemeindesaal. Wir beschäftigen uns mit Grundfragen des Glaubens. Herzliche Einladung! &nbsp\;
END:VEVENT
END:VCALENDAR
