BEGIN:VCALENDAR
VERSION:2.0
PRODID:Imitheme.com 
BEGIN:VEVENT
UID:20260422T1227211040019731
DTSTAMP;TZID=UTC:20260422T122721
DTSTART;TZID=UTC:20261116T122700
DTEND;TZID=UTC:20261116T122700
SUMMARY:Presbyteriumssitzung
LOCATION:
DESCRIPTION:Presbyteriumssitzung &nbsp\;
END:VEVENT
END:VCALENDAR
