BEGIN:VCALENDAR
VERSION:2.0
PRODID:Imitheme.com 
BEGIN:VEVENT
UID:20260422T1104552042747334
DTSTAMP;TZID=UTC:20260422T110455
DTSTART;TZID=UTC:20261116T110400
DTEND;TZID=UTC:20261116T110400
SUMMARY:Andacht mit Pfr. Johannes Wittich
LOCATION:
DESCRIPTION:Andacht\, Gebet und seelsorgerliches Gespräch mit Pfr. Johannes Wittich. GastgeberIn\: OrganistIn\: Kein Organist Gemeindekaffee\: Kein Gemeindekaffee &nbsp\;
END:VEVENT
END:VCALENDAR
