BEGIN:VCALENDAR
VERSION:2.0
PRODID:Imitheme.com 
BEGIN:VEVENT
UID:20260425T1344312123794079
DTSTAMP;TZID=UTC:20260425T134431
DTSTART;TZID=UTC:20261116T134400
DTEND;TZID=UTC:20261116T134400
SUMMARY:Penguin’s Club\: Wohin führt der Weg?
LOCATION:
DESCRIPTION:Penguin’s Club Thema\: Wohin führt der Weg? anschließend Wii-Spiele-Abend &nbsp\;
END:VEVENT
END:VCALENDAR
