BEGIN:VCALENDAR
VERSION:2.0
PRODID:Imitheme.com 
BEGIN:VEVENT
UID:20260421T1157521215512317
DTSTAMP;TZID=UTC:20260421T115752
DTSTART;TZID=UTC:20261116T115700
DTEND;TZID=UTC:20261116T115700
SUMMARY:Vorbereitungstreffen \: Tag des Judentums
LOCATION:
DESCRIPTION:Vorgespräch zum Tag des Judentums\, Fr. Dr. Stefenie Plangger\, Hr. Prof. Martin Jäggle und Robert Colditz. In Kirche\, Gemeindesaal und/oder Büro. &nbsp\;
END:VEVENT
END:VCALENDAR
