BEGIN:VCALENDAR
VERSION:2.0
PRODID:Imitheme.com 
BEGIN:VEVENT
UID:20260422T122918341526110
DTSTAMP;TZID=UTC:20260422T122918
DTSTART;TZID=UTC:20261116T122900
DTEND;TZID=UTC:20261116T122900
SUMMARY:Geistliches und und Instrumentales aus den Beständen der Nationalbibliothek
LOCATION:
DESCRIPTION:Benefizkonzert\: Geistliches und und Instrumentales aus den Beständen der Nationalbibliothek Ihre Spenden werden zum Ankauf neuer Liederbücher für die Gemeinde verwendet. Andrew Schultze (Chicago) – Bassbariton Marianne Rônez – Barockgeige und Violino a cinque corde Ernst Kubitschek – Orgel Felice Sances  um 1600-1679 Bonum est confiteri Dominum\, Psalm 91 aus...
END:VEVENT
END:VCALENDAR
