BEGIN:VCALENDAR
VERSION:2.0
PRODID:Imitheme.com 
BEGIN:VEVENT
UID:20260422T1228221470941629
DTSTAMP;TZID=UTC:20260422T122822
DTSTART;TZID=UTC:20261116T122800
DTEND;TZID=UTC:20261116T122800
SUMMARY:Gottesdienst mit Pfr.i.R. Karl Weinberger mit AM und Kindergottesdienst
LOCATION:
DESCRIPTION:Mit Pfr.i.R. Karl Weinberger\, mit Abendmahl und Kindergottesdienst &nbsp\;
END:VEVENT
END:VCALENDAR
