BEGIN:VCALENDAR
VERSION:2.0
PRODID:Imitheme.com 
BEGIN:VEVENT
UID:20260421T115923695164508
DTSTAMP;TZID=UTC:20260421T115923
DTSTART;TZID=UTC:20261116T115900
DTEND;TZID=UTC:20261116T115900
SUMMARY:Gottesdienst mit Ulrich Körtner
LOCATION:
DESCRIPTION:mit Ulrich Körtner &nbsp\;
END:VEVENT
END:VCALENDAR
