BEGIN:VCALENDAR
VERSION:2.0
PRODID:Imitheme.com 
BEGIN:VEVENT
UID:20260422T1238021859569557
DTSTAMP;TZID=UTC:20260422T123802
DTSTART;TZID=UTC:20261116T123800
DTEND;TZID=UTC:20261116T123800
SUMMARY:Gottesdienst mit Pfr.i.R. Karl Weinberger mit AM und Kindergottesdienst
LOCATION:
DESCRIPTION:Mit Pfr.i.R. Karl Weinberger\, mit Abendmahl und Kindergottesdienst &nbsp\;
END:VEVENT
END:VCALENDAR
