BEGIN:VCALENDAR
VERSION:2.0
PRODID:Imitheme.com 
BEGIN:VEVENT
UID:20260421T1159011303899600
DTSTAMP;TZID=UTC:20260421T115901
DTSTART;TZID=UTC:20261116T115900
DTEND;TZID=UTC:20261116T115900
SUMMARY:Gottesdienst mit Pfr.i.R. Johann Ulreich
LOCATION:
DESCRIPTION:Mit Pfr.i.R. Johann Ulreich\,  mit anschließendem “Sing Along” von Weihnachtsliedern &nbsp\;
END:VEVENT
END:VCALENDAR
