BEGIN:VCALENDAR
VERSION:2.0
PRODID:Imitheme.com 
BEGIN:VEVENT
UID:20260422T1104551204266230
DTSTAMP;TZID=UTC:20260422T110455
DTSTART;TZID=UTC:20261116T110400
DTEND;TZID=UTC:20261116T110400
SUMMARY:Hölzerne evangelische Artikularkirchen
LOCATION:
DESCRIPTION:[pdf-embedder url=\"http\://www.hb-wiensued.at/wp-content/uploads/2019/08/Slowakei-2019.pdf\" title=\"Slowakei 2019\"] &nbsp\;
END:VEVENT
END:VCALENDAR
