BEGIN:VCALENDAR
VERSION:2.0
PRODID:Imitheme.com 
BEGIN:VEVENT
UID:20260422T122917160595080
DTSTAMP;TZID=UTC:20260422T122917
DTSTART;TZID=UTC:20261116T122900
DTEND;TZID=UTC:20261116T122900
SUMMARY:Goldener Burgherbst & 70 Jahre Ev. Jugend auf der Burg Finstergrün
LOCATION:
DESCRIPTION:&nbsp\; &nbsp\; Der Goldene Burgherbst findet vom 19.9. – 22.9.2019 statt. Details ... Das Jubiläum „70 Jahre Evangelische Jugend Österreichs auf der Burg Finstergrün“ wird am 21.9.2019 ab mittags auf der Burg gefeiert (Link Einladung &amp\; Programm) &nbsp\;
END:VEVENT
END:VCALENDAR
