BEGIN:VCALENDAR
VERSION:2.0
PRODID:Imitheme.com 
BEGIN:VEVENT
UID:20260422T1227251351969321
DTSTAMP;TZID=UTC:20260422T122725
DTSTART;TZID=UTC:20261116T122700
DTEND;TZID=UTC:20261116T122700
SUMMARY:Alternatives Glaubensgespräch – Zweifeln und Glauben
LOCATION:
DESCRIPTION:Alternatives Glaubensgespräch – Zweifeln und Glauben &nbsp\;
END:VEVENT
END:VCALENDAR
