BEGIN:VCALENDAR
VERSION:2.0
PRODID:Imitheme.com 
BEGIN:VEVENT
UID:20260421T1159031212031396
DTSTAMP;TZID=UTC:20260421T115903
DTSTART;TZID=UTC:20261116T115900
DTEND;TZID=UTC:20261116T115900
SUMMARY:Besuch in der Synagoge
LOCATION:
DESCRIPTION:23.09. oder 07.10. Besuch in der Synagoge\, 1010 Wien
END:VEVENT
END:VCALENDAR
