BEGIN:VCALENDAR
VERSION:2.0
PRODID:Imitheme.com 
BEGIN:VEVENT
UID:20260425T1525241366228295
DTSTAMP;TZID=UTC:20260425T152524
DTSTART;TZID=UTC:20261116T152500
DTEND;TZID=UTC:20261116T152500
SUMMARY:Presbyteriumssitzung
LOCATION:
DESCRIPTION:
END:VEVENT
END:VCALENDAR
