BEGIN:VCALENDAR
VERSION:2.0
PRODID:Imitheme.com 
BEGIN:VEVENT
UID:20260422T1105521583329293
DTSTAMP;TZID=UTC:20260422T110552
DTSTART;TZID=UTC:20260929T110500
DTEND;TZID=UTC:20260929T110500
SUMMARY:Prüfung & Kontrolle der Einhaltung der DSGVO Verordnung
LOCATION:
DESCRIPTION:Prüfung &amp\; Kontrolle der Einhaltung der DSGVO Verordnung durch Uwe Warm.
END:VEVENT
END:VCALENDAR
