BEGIN:VCALENDAR
VERSION:2.0
PRODID:Imitheme.com 
BEGIN:VEVENT
UID:20260422T110552223402405
DTSTAMP;TZID=UTC:20260422T110552
DTSTART;TZID=UTC:20260929T110500
DTEND;TZID=UTC:20260929T110500
SUMMARY:Besuchskreis / Wegen Lockdown abgesagt
LOCATION:
DESCRIPTION:  Besuchskreis Wegen Lockdown abgesagt.
END:VEVENT
END:VCALENDAR
