BEGIN:VCALENDAR
VERSION:2.0
PRODID:Imitheme.com 
BEGIN:VEVENT
UID:20260421T102458748934410
DTSTAMP;TZID=UTC:20260421T102458
DTSTART;TZID=UTC:20260929T102400
DTEND;TZID=UTC:20260929T102400
SUMMARY:Besuchskreis
LOCATION:
DESCRIPTION:  Besuchskreis InteressentInnen mögen sich bitte zwecks vorheriger Rücksprache mit Ursula Kratky über die Pfarrkanzlei in Verbindung setzen.
END:VEVENT
END:VCALENDAR
