BEGIN:VCALENDAR
VERSION:2.0
PRODID:Imitheme.com 
BEGIN:VEVENT
UID:20260421T102456392675069
DTSTAMP;TZID=UTC:20260421T102456
DTSTART;TZID=UTC:20260929T102400
DTEND;TZID=UTC:20260929T102400
SUMMARY:Gottesdienst mit Pfr. Johannes Wittich
LOCATION:
DESCRIPTION:[caption id=\"attachment_3702\" align=\"alignnone\" width=\"225\"] Johannes Wittich[/caption] mit Pfr. Johannes Wittich GastgeberIn\: Horst Rebbe OrganistIn\: Juliane Schleehahn Gemeindekaffee\: Gerti Seper &nbsp\;
END:VEVENT
END:VCALENDAR
