BEGIN:VCALENDAR
VERSION:2.0
PRODID:Imitheme.com 
BEGIN:VEVENT
UID:20260422T1105401670458685
DTSTAMP;TZID=UTC:20260422T110540
DTSTART;TZID=UTC:20260929T110500
DTEND;TZID=UTC:20260929T110500
SUMMARY:Gottesdienst mit Pfr.i.R. Pfr. Ulreich
LOCATION:
DESCRIPTION:[caption id=\"attachment_2243\" align=\"alignnone\" width=\"221\"] Johann Ulreich[/caption] mit Pfr.i.R. Johann Ulreich GastgeberIn\: Ursula Kratky OrganistIn\: Juliane Schleehahn Gemeindekaffee\: Kein Gemeindekaffee &nbsp\;
END:VEVENT
END:VCALENDAR
