BEGIN:VCALENDAR
VERSION:2.0
PRODID:Imitheme.com 
BEGIN:VEVENT
UID:20260421T1024561518920491
DTSTAMP;TZID=UTC:20260421T102456
DTSTART;TZID=UTC:20260929T102400
DTEND;TZID=UTC:20260929T102400
SUMMARY:Online-Gottesdienst von Pfr. Johannes Wittich zum Nachlesen und -hören auf der Homepage\, Kirche geschlossen
LOCATION:
DESCRIPTION:[caption id=\"attachment_3702\" align=\"alignnone\" width=\"225\"] Johannes Wittich[/caption] Gottesdienst von Pfr. Johannes Wittich zum Nachlesen und -hören auf der Homepage\, Kirche geschlossen &nbsp\;
END:VEVENT
END:VCALENDAR
