BEGIN:VCALENDAR
VERSION:2.0
PRODID:Imitheme.com 
BEGIN:VEVENT
UID:20260420T134744705077124
DTSTAMP;TZID=UTC:20260420T134744
DTSTART;TZID=UTC:20260929T134700
DTEND;TZID=UTC:20260929T134700
SUMMARY:Gottesdienst mit Gerti Rohrmoser
LOCATION:
DESCRIPTION:[caption id=\"attachment_2250\" align=\"alignnone\" width=\"300\"] Gerti Rohrmoser[/caption] mit Gerti Rohrmoser GastgeberIn\: Dagmar Pfirstinger OrganistIn\: Martin A. Seidl Gemeindekaffee\: Kein Gemeindekaffee &nbsp\;
END:VEVENT
END:VCALENDAR
