BEGIN:VCALENDAR
VERSION:2.0
PRODID:Imitheme.com 
BEGIN:VEVENT
UID:20260422T110427711728793
DTSTAMP;TZID=UTC:20260422T110427
DTSTART;TZID=UTC:20260929T110400
DTEND;TZID=UTC:20260929T110400
SUMMARY:Gottesdienst von Pfr. Johannes Wittich zum Nachlesen und -hören auf der Homepage\, Kirche geschlossen
LOCATION:
DESCRIPTION:[caption id=\"attachment_3702\" align=\"alignnone\" width=\"225\"] Johannes Wittich[/caption] Gottesdienst von Pfr. Johannes Wittich zum Nachlesen und -hören auf der Homepage\, Kirche geschlossen &nbsp\;
END:VEVENT
END:VCALENDAR
