BEGIN:VCALENDAR
VERSION:2.0
PRODID:Imitheme.com 
BEGIN:VEVENT
UID:20260420T134742301119504
DTSTAMP;TZID=UTC:20260420T134742
DTSTART;TZID=UTC:20260929T134700
DTEND;TZID=UTC:20260929T134700
SUMMARY:Gottesdienst mit Ulrike Wittich
LOCATION:
DESCRIPTION:[caption id=\"attachment_3712\" align=\"alignnone\" width=\"203\"] Ulrike Wittich[/caption] mit Ulrike Wittich GastgeberIn\: Gerti Seper OrganistIn\: Martin A. Seidl Gemeindekaffee\: Kein Gemeindekaffee &nbsp\;
END:VEVENT
END:VCALENDAR
