BEGIN:VCALENDAR
VERSION:2.0
PRODID:Imitheme.com 
BEGIN:VEVENT
UID:20260421T102507623757554
DTSTAMP;TZID=UTC:20260421T102507
DTSTART;TZID=UTC:20260929T102500
DTEND;TZID=UTC:20260929T102500
SUMMARY:Lange Nacht der Kirchen 2021
LOCATION:
DESCRIPTION:&nbsp\; 18\:00 bis 18\:45 Uhr\: Fröhliche Klänge aus Italien 19\:00 bis 19\:45 Uhr\: Mit Humor geht vieles leichter… überraschende Sichtweisen einer Clownin 20\:00 bis 20\:45 Uhr\: Mission – Possible! 21\:00 bis 21\:45 Uhr\: Taizé Gesänge   18\:00 – 18\:45\: Fröhliche Klänge aus Italien Arcangelo Corelli (1653-1713)\: Sonata I. Op. V\,...
END:VEVENT
END:VCALENDAR
