BEGIN:VCALENDAR
VERSION:2.0
PRODID:Imitheme.com 
BEGIN:VEVENT
UID:20260421T1025271673161012
DTSTAMP;TZID=UTC:20260421T102527
DTSTART;TZID=UTC:20260929T102500
DTEND;TZID=UTC:20260929T102500
SUMMARY:Penguin’s Club\, 1Finaleeee ….. oohooohoo
LOCATION:
DESCRIPTION:Penguin’s Club\: Thema\: Finaleeee ….. oohooohoo Derzeit ist noch offen\, ob wir uns am Wielandplatz treffen oder doch eher über Videokonferenz. Dies wird aber zeitnah bekannt gegeben. &nbsp\;
END:VEVENT
END:VCALENDAR
