BEGIN:VCALENDAR
VERSION:2.0
PRODID:Imitheme.com 
BEGIN:VEVENT
UID:20260422T1104292059252580
DTSTAMP;TZID=UTC:20260422T110429
DTSTART;TZID=UTC:20260929T110400
DTEND;TZID=UTC:20260929T110400
SUMMARY:Ungarische Bibelstunde / online
LOCATION:
DESCRIPTION:Wir treffen uns mit Pfr. Károly Nagy\, diesmal über WhatsApp.
END:VEVENT
END:VCALENDAR
