BEGIN:VCALENDAR
VERSION:2.0
PRODID:Imitheme.com 
BEGIN:VEVENT
UID:20260422T110540814204978
DTSTAMP;TZID=UTC:20260422T110540
DTSTART;TZID=UTC:20260929T110500
DTEND;TZID=UTC:20260929T110500
SUMMARY:Weltgebetstag der Frauen
LOCATION:
DESCRIPTION:[caption id=\"attachment_8793\" align=\"alignnone\" width=\"207\"] Offizielles Titelbild von Juliette Pita[/caption] Weltgebetstag der Frauen. Röm. Kath. Kirche St. Paul Jura Soyfer Gasse 2 1100 Wien Der Weltgebetstag 2021 findet unter allen Umständen statt. Viele engagierte Frauen tun momentan alles dafür\, dass wir – trotz Corona-Pandemie – gemeinsam feiern können. Auf jeden Fall\,...
END:VEVENT
END:VCALENDAR
