BEGIN:VCALENDAR
VERSION:2.0
PRODID:Imitheme.com 
BEGIN:VEVENT
UID:20260421T102527806836271
DTSTAMP;TZID=UTC:20260421T102527
DTSTART;TZID=UTC:20260929T102500
DTEND;TZID=UTC:20260929T102500
SUMMARY:Besuchskreis / Wegen COVID-19 ABGESAGT.
LOCATION:
DESCRIPTION:Seien wir zuversichtlich und hoffen wir\, dass persönliche Begegnungen bis dann wieder möglich sein werden! Wegen COVID-19 ABGESAGT. \"Einmal mehr muss leider unser Treffen abgesagt werden. Wir alle sind weiterhin gefordert\, uns in Geduld und Zuversicht zu üben und noch eine hoffentlich nur mehr kleine Weile unseren Kontakt via Telefon...
END:VEVENT
END:VCALENDAR
