BEGIN:VCALENDAR
VERSION:2.0
PRODID:Imitheme.com 
BEGIN:VEVENT
UID:20260422T110542646198364
DTSTAMP;TZID=UTC:20260422T110542
DTSTART;TZID=UTC:20260929T110500
DTEND;TZID=UTC:20260929T110500
SUMMARY:Andacht von Gerti Rohrmoser auf der Homepage
LOCATION:
DESCRIPTION:[caption id=\"attachment_2250\" align=\"alignnone\" width=\"300\"] Gerti Rohrmoser[/caption] Andacht von Gerti Rohrmoser auf der Homepage &nbsp\;
END:VEVENT
END:VCALENDAR
