BEGIN:VCALENDAR
VERSION:2.0
PRODID:Imitheme.com 
BEGIN:VEVENT
UID:20260421T1024431560433611
DTSTAMP;TZID=UTC:20260421T102443
DTSTART;TZID=UTC:20260929T102400
DTEND;TZID=UTC:20260929T102400
SUMMARY:Klausur PB und Diakonium / Wegen COVID-19 ABGESAGT
LOCATION:
DESCRIPTION: Wegen COVID-19 ABGESAGT Klausur PB und Diakonium Moderation\: Wolfgang Pehamberger &nbsp\;
END:VEVENT
END:VCALENDAR
