BEGIN:VCALENDAR
VERSION:2.0
PRODID:Imitheme.com 
BEGIN:VEVENT
UID:20260420T134733659256657
DTSTAMP;TZID=UTC:20260420T134733
DTSTART;TZID=UTC:20260929T134700
DTEND;TZID=UTC:20260929T134700
SUMMARY:Penguin’s Clubmit mit Water Pong
LOCATION:
DESCRIPTION:Penguin’s Club\: Thema\: Water Pong Derzeit ist noch offen\, ob wir uns am Wielandplatz treffen oder doch eher über Videokonferenz. Dies wird aber zeitnah bekannt gegeben. &nbsp\;
END:VEVENT
END:VCALENDAR
