BEGIN:VCALENDAR
VERSION:2.0
PRODID:Imitheme.com 
BEGIN:VEVENT
UID:20260422T1105511880462877
DTSTAMP;TZID=UTC:20260422T110551
DTSTART;TZID=UTC:20260929T110500
DTEND;TZID=UTC:20260929T110500
SUMMARY:Schülergottesdienst
LOCATION:
DESCRIPTION:Schülergottesdienst &nbsp\;
END:VEVENT
END:VCALENDAR
