BEGIN:VCALENDAR
VERSION:2.0
PRODID:Imitheme.com 
BEGIN:VEVENT
UID:20260420T1347301983427525
DTSTAMP;TZID=UTC:20260420T134730
DTSTART;TZID=UTC:20260929T134700
DTEND;TZID=UTC:20260929T134700
SUMMARY:Online-Andacht mit Pfr. Johannes Wittich\, 1. Advent
LOCATION:
DESCRIPTION:[caption id=\"attachment_3702\" align=\"alignnone\" width=\"225\"] Johannes Wittich[/caption] Online-Andacht mit Pfr. Johannes Wittich\, 1. Advent &nbsp\;
END:VEVENT
END:VCALENDAR
