BEGIN:VCALENDAR
VERSION:2.0
PRODID:Imitheme.com 
BEGIN:VEVENT
UID:20260421T1026161461487375
DTSTAMP;TZID=UTC:20260421T102616
DTSTART;TZID=UTC:20260929T102600
DTEND;TZID=UTC:20260929T102600
SUMMARY:Gottesdienst mit Pfr. Johannes Wittich\, Reformationsfest
LOCATION:
DESCRIPTION:[caption id=\"attachment_3702\" align=\"alignnone\" width=\"225\"] Johannes Wittich[/caption] mit Pfr. Johannes Wittich\, Reformationsfest GastgeberIn\: F. Radner OrganistIn\: J. Schleehahn Gemeindekaffee\: Kein Gemeindekaffee Gleicher Gottesdienst wie um 10 Uhr. Wir ersuchen Sie dringend\, sich zu diesem Gottesdienst anzumelden. &nbsp\;
END:VEVENT
END:VCALENDAR
