BEGIN:VCALENDAR
VERSION:2.0
PRODID:Imitheme.com 
BEGIN:VEVENT
UID:20260422T110634508160302
DTSTAMP;TZID=UTC:20260422T110634
DTSTART;TZID=UTC:20260929T110600
DTEND;TZID=UTC:20260929T110600
SUMMARY:Gottesdienst mit Pfr. Johannes Wittich und Penguin\'s Club\, Begrüßung der neuen KonfirmandInnen
LOCATION:
DESCRIPTION:[caption id=\"attachment_3702\" align=\"alignnone\" width=\"225\"] Johannes Wittich[/caption] mit Pfr. Johannes Wittich und Penguin\'s Club\, Begrüßung der neuen KonfirmandInnen. GastgeberIn\: R. Colditz OrganistIn\: J. Schleehahn Gemeindekaffee\: Kein Gemeindekaffee Wir ersuchen Sie dringend\, sich zu diesem Gottesdienst anzumelden. &nbsp\;
END:VEVENT
END:VCALENDAR
