BEGIN:VCALENDAR
VERSION:2.0
PRODID:Imitheme.com 
BEGIN:VEVENT
UID:20260421T1026151431485757
DTSTAMP;TZID=UTC:20260421T102615
DTSTART;TZID=UTC:20260929T102600
DTEND;TZID=UTC:20260929T102600
SUMMARY:Besprechung \"Pensionistenrunde\"
LOCATION:
DESCRIPTION:Besprechung \"Pensionistenrunde\" mit Inge Schintlmeister\, Jolana Antal und Franz Radner &nbsp\;
END:VEVENT
END:VCALENDAR
