BEGIN:VCALENDAR
VERSION:2.0
PRODID:Imitheme.com 
BEGIN:VEVENT
UID:20260421T1025081748393502
DTSTAMP;TZID=UTC:20260421T102508
DTSTART;TZID=UTC:20260929T102500
DTEND;TZID=UTC:20260929T102500
SUMMARY:EGC in Bayern / Wegen COVID-19 ABGESAGT
LOCATION:
DESCRIPTION:EGC in Bayern Wegen COVID-19 ABGESAGT
END:VEVENT
END:VCALENDAR
