BEGIN:VCALENDAR
VERSION:2.0
PRODID:Imitheme.com 
BEGIN:VEVENT
UID:20260421T102530569966781
DTSTAMP;TZID=UTC:20260421T102530
DTSTART;TZID=UTC:20260929T102500
DTEND;TZID=UTC:20260929T102500
SUMMARY:Interreligiöses Dialogtreffen / online
LOCATION:
DESCRIPTION:&nbsp\; Die MA17 Süd für Integration und Diversität ladet Sie herzlich zum Interreligiösen Dialogtreffen ein.
END:VEVENT
END:VCALENDAR
