BEGIN:VCALENDAR
VERSION:2.0
PRODID:Imitheme.com 
BEGIN:VEVENT
UID:20260422T1106341142132024
DTSTAMP;TZID=UTC:20260422T110634
DTSTART;TZID=UTC:20260929T110600
DTEND;TZID=UTC:20260929T110600
SUMMARY:Besprechung \"Pensionistenrunde\"
LOCATION:
DESCRIPTION:Besprechung \"Pensionistenrunde\" mit Inge Schintlmeister\, Jolana Antal und Franz Radner &nbsp\;
END:VEVENT
END:VCALENDAR
