BEGIN:VCALENDAR
VERSION:2.0
PRODID:Imitheme.com 
BEGIN:VEVENT
UID:20260421T1026161923011182
DTSTAMP;TZID=UTC:20260421T102616
DTSTART;TZID=UTC:20260929T102600
DTEND;TZID=UTC:20260929T102600
SUMMARY:Gottesdienst mit Pfr. Johannes Wittich und Penguin\'s Club\, Konfirmation und Entsendung der aktuellen KonfirmandInnen
LOCATION:
DESCRIPTION:[caption id=\"attachment_3702\" align=\"alignnone\" width=\"225\"] Johannes Wittich[/caption] mit Pfr. Johannes Wittich und Penguin\'s Club\, Konfirmation und Entsendung der aktuellen KonfirmandInnen. GastgeberIn\: R. Colditz OrganistIn\: J. Schleehahn Gemeindekaffee\: Kein Gemeindekaffee Wir ersuchen Sie dringend\, sich zu diesem Gottesdienst anzumelden. &nbsp\;
END:VEVENT
END:VCALENDAR
