BEGIN:VCALENDAR
VERSION:2.0
PRODID:Imitheme.com 
BEGIN:VEVENT
UID:20260421T102453291685150
DTSTAMP;TZID=UTC:20260421T102453
DTSTART;TZID=UTC:20260929T102400
DTEND;TZID=UTC:20260929T102400
SUMMARY:Obstbaum Pflanzung am Wiener Berg / Wegen COVID-19 ABGESAGT / Verschoben.
LOCATION:
DESCRIPTION:&nbsp\; &nbsp\; &nbsp\; Einladung zur Obstbaum Pflanzung am Wiener Berg. &nbsp\; [caption id=\"attachment_8027\" align=\"alignleft\" width=\"300\"] Quelle\: Obststadt Wien[/caption] &nbsp\; &nbsp\; &nbsp\; Einladung zur Pflanzung der Obstbäume am Wienerberg &nbsp\; &nbsp\; &nbsp\; Wegen COVID-19 ABGESAGT / Verschoben. Unsere Gemeinde wird Obstbaumpatin für einen Obstbaum am Wiener Berg. Die Früchte – Apfel\,...
END:VEVENT
END:VCALENDAR
