BEGIN:VCALENDAR
VERSION:2.0
PRODID:Imitheme.com 
BEGIN:VEVENT
UID:20260422T110551867264634
DTSTAMP;TZID=UTC:20260422T110551
DTSTART;TZID=UTC:20260929T110500
DTEND;TZID=UTC:20260929T110500
SUMMARY:Frauen-Bibelgespräche / Wegen COVID-19 ABGESAGT
LOCATION:
DESCRIPTION:Dienstags\, um 16 Uhr im Gemeindesaal. Wir beschäftigen uns mit Grundfragen des Glaubens. Herzliche Einladung! Wegen COVID-19 ABGESAGT &nbsp\;
END:VEVENT
END:VCALENDAR
