BEGIN:VCALENDAR
VERSION:2.0
PRODID:Imitheme.com 
BEGIN:VEVENT
UID:20260421T1026121897036083
DTSTAMP;TZID=UTC:20260421T102612
DTSTART;TZID=UTC:20260929T102600
DTEND;TZID=UTC:20260929T102600
SUMMARY:Ungarische Bibelstunde / online
LOCATION:
DESCRIPTION:Wir treffen uns mit Pfr. Károly Nagy\, diesmal online.
END:VEVENT
END:VCALENDAR
