BEGIN:VCALENDAR
VERSION:2.0
PRODID:Imitheme.com 
BEGIN:VEVENT
UID:20260421T102612204934230
DTSTAMP;TZID=UTC:20260421T102612
DTSTART;TZID=UTC:20260929T102600
DTEND;TZID=UTC:20260929T102600
SUMMARY:Vortrag \"Klima.Gerecht.Essen\"
LOCATION:
DESCRIPTION:&nbsp\; &nbsp\; &nbsp\; Vortrag von MMaga. Hannah Satlow zum Thema \"Klima.Gerecht.Essen\". Ist auch Ihre Wurstsemmel global vernetzt? Wie verschärft sich die (un)gerechte Ernährungssituation weltweit? Was kann jeder und jede beitragen\, um unseren Planeten zu erhalten? Diesen Fragen wird im Impulsvortrag „Klima.Gerecht.Essen.“ nachgegangen und mit den Teilnehmenden über alltagstauglichen Lösungen diskutiert....
END:VEVENT
END:VCALENDAR
