BEGIN:VCALENDAR
VERSION:2.0
PRODID:Imitheme.com 
BEGIN:VEVENT
UID:20260421T102612492596212
DTSTAMP;TZID=UTC:20260421T102612
DTSTART;TZID=UTC:20260929T102600
DTEND;TZID=UTC:20260929T102600
SUMMARY:Online - Gottesdienst
LOCATION:
DESCRIPTION:Online - Gottesdienst &nbsp\;
END:VEVENT
END:VCALENDAR
