BEGIN:VCALENDAR
VERSION:2.0
PRODID:Imitheme.com 
BEGIN:VEVENT
UID:20260420T1347321196427235
DTSTAMP;TZID=UTC:20260420T134732
DTSTART;TZID=UTC:20260929T134700
DTEND;TZID=UTC:20260929T134700
SUMMARY:Gottesdienst mit Pfr. Johannes Wittich
LOCATION:
DESCRIPTION:[caption id=\"attachment_3702\" align=\"alignnone\" width=\"225\"] Johannes Wittich[/caption] mit Pfr. Johannes Wittich GastgeberIn\: G. Seper OrganistIn\: Martin Seidl Gemeindekaffee\: Kein Gemeindekaffee &nbsp\;
END:VEVENT
END:VCALENDAR
