BEGIN:VCALENDAR
VERSION:2.0
PRODID:Imitheme.com 
BEGIN:VEVENT
UID:20260421T1026161592882320
DTSTAMP;TZID=UTC:20260421T102616
DTSTART;TZID=UTC:20260929T102600
DTEND;TZID=UTC:20260929T102600
SUMMARY:Andacht mit Pfr. Johannes Wittich
LOCATION:
DESCRIPTION:Andacht\, Gebet\, Musik und seelsorgerliches Gespräch mit Pfr. Johannes Wittich. GastgeberIn\: --- OrganistIn\: Martin Seidl Gemeindekaffee\: Kein Gemeindekaffee &nbsp\;
END:VEVENT
END:VCALENDAR
